BEGIN:VCALENDAR
VERSION:2.0
PRODID:WorCo
X-WR-CALNAME:Pure Prairie League\, Atlanta Rhythm Section\, Orleans\, & Fir
 efall
BEGIN:VEVENT
UID:351172026-08-08
DTSTART:20260808T230000Z
SEQUENCE:0
TRANSP:OPAQUE
DTEND:20260808T040000Z
LOCATION:4001 Coastal Highway\nOcean City Maryland 21842
X-APPLE-STRUCTURED-LOCATION;VALUE=URI;X-ADDRESS=4001 Coastal Highway\nOcean
  City Maryland 21842;X-APPLE-RADIUS=49;X-TITLE=4001 Coastal Highway:geo:38
 .368159,-75.074256
GEO:38.368159;-75.074256
SUMMARY:Pure Prairie League\, Atlanta Rhythm Section\, Orleans\, & Firefall
CLASS:PUBLIC
DESCRIPTION:Experience an evening of timeless hits and harmony-driven rock 
 as four\nof the most influential bands of the 1970s and 80s take the stage
  at\nthe OCEAN CITY PERFORMING ARTS CENTER. This \"Classic Rock Tour\"\nb
 rings over five decades of music history to the shore for one massive\nper
 formance.\n\nPURE PRAIRIE LEAGUE: Pioneers of the Country-Rock movement f
 or over\n50 years. From the multi-platinum success of _Bustin’ Out_ to
  the\niconic strains of \"AMIE\,\" \"LET ME LOVE YOU TONIGHT\,\" and \
 "FALLING\nIN AND OUT OF LOVE\,\" PPL continues to lead the way for a new\
 ngeneration of rockers.\n\nATLANTA RHYTHM SECTION: A staple of the Southe
 rn Rock scene for more\nthan half a century. Known for their outstanding s
 ongwriting and\nsmooth performances\, ARS will deliver the chart-topping h
 its you know\nby heart\, including \"SO INTO YOU\,\" \"CHAMPAGNE JAM\,\"
  \"IMAGINARY\nLOVER\,\" and \"SPOOKY.\"\n\nFIREFALL: Celebrating 50 ye
 ars since their debut\, this Boulder\,\nColorado powerhouse defined the FM
  radio era. Founder Jock Bartley\nleads the band through a setlist of esse
 ntials like \"YOU ARE THE\nWOMAN\,\" \"JUST REMEMBER I LOVE YOU\,\" \"S
 TRANGE\nWAY\,\" and \"CINDERELLA.\"\n\nORLEANS: The masters of Pop-Rock
  melody and harmony. Now in its 53rd\nyear and led by co-founder Lance Hop
 pen\, Orleans brings their\nsignature class and integrity to the stage wit
 h classics like \"STILL\nTHE ONE\,\" \"DANCE WITH ME\,\" and \"LOVE TA
 KES TIME.\n\nDon't miss this rare opportunity to see four legendary acts i
 n a\nsingle night. Secure your seats now for a journey through the\nsoundt
 racks of the 70s and 80s.\n\nPURCHASE TICKETS\n[https://www.etix.com/ticke
 t/p/77087557/pure-prarie-leagueatlanta-rhythm-sectionorleansand-firefall-o
 cean-city-oc-performing-arts-center]\n
X-ALT-DESC;FMTTYPE=text/html:<p data-path-to-node=\"2\">Experience an eveni
 ng of timeless hits and harmony-driven rock as four of the most influentia
 l bands of the 1970s and 80s take the stage at the&nbsp\;<strong data-inde
 x-in-node=\"144\" data-path-to-node=\"2\">Ocean City Performing Arts Cente
 r</strong>. This &quot\;Classic Rock Tour&quot\; brings over five decades 
 of music history to the shore for one massive performance.</p>\n\n<p data-
 path-to-node=\"8\"><strong data-index-in-node=\"0\" data-path-to-node=\"8\
 ">Pure Prairie League:</strong>&nbsp\;Pioneers of the Country-Rock movemen
 t for over 50 years. From the multi-platinum success of&nbsp\;<em data-ind
 ex-in-node=\"112\" data-path-to-node=\"8\">Bustin&rsquo\; Out</em>&nbsp\;t
 o the iconic strains of&nbsp\;<strong data-index-in-node=\"149\" data-path
 -to-node=\"8\">&quot\;Amie\,&quot\;</strong>&nbsp\;<strong data-index-in-n
 ode=\"157\" data-path-to-node=\"8\">&quot\;Let Me Love You Tonight\,&quot\
 ;</strong>&nbsp\;and&nbsp\;<strong data-index-in-node=\"188\" data-path-to
 -node=\"8\">&quot\;Falling In and Out of Love\,&quot\;</strong>&nbsp\;PPL 
 continues to lead the way for a new generation of rockers.</p>\n\n<p data-
 path-to-node=\"9\"><strong data-index-in-node=\"0\" data-path-to-node=\"9\
 ">Atlanta Rhythm Section:</strong>&nbsp\;A staple of the Southern Rock sce
 ne for more than half a century. Known for their outstanding songwriting a
 nd smooth performances\, ARS will deliver the chart-topping hits you know 
 by heart\, including&nbsp\;<strong data-index-in-node=\"223\" data-path-to
 -node=\"9\">&quot\;So Into You\,&quot\;</strong>&nbsp\;<strong data-index-
 in-node=\"238\" data-path-to-node=\"9\">&quot\;Champagne Jam\,&quot\;</str
 ong>&nbsp\;<strong data-index-in-node=\"255\" data-path-to-node=\"9\">&quo
 t\;Imaginary Lover\,&quot\;</strong>&nbsp\;and&nbsp\;<strong data-index-in
 -node=\"278\" data-path-to-node=\"9\">&quot\;Spooky.&quot\;</strong></p>\n
 \n<p data-path-to-node=\"10\"><strong data-index-in-node=\"0\" data-path-t
 o-node=\"10\">Firefall:</strong>&nbsp\;Celebrating 50 years since their de
 but\, this Boulder\, Colorado powerhouse defined the FM radio era. Founder
  Jock Bartley leads the band through a setlist of essentials like&nbsp\;<s
 trong data-index-in-node=\"182\" data-path-to-node=\"10\">&quot\;You Are t
 he Woman\,&quot\;</strong>&nbsp\;<strong data-index-in-node=\"203\" data-p
 ath-to-node=\"10\">&quot\;Just Remember I Love You\,&quot\;</strong>&nbsp\
 ;<strong data-index-in-node=\"231\" data-path-to-node=\"10\">&quot\;Strang
 e Way\,&quot\;</strong>&nbsp\;and&nbsp\;<strong data-index-in-node=\"250\"
  data-path-to-node=\"10\">&quot\;Cinderella.&quot\;</strong></p>\n\n<p dat
 a-path-to-node=\"11\"><strong data-index-in-node=\"0\" data-path-to-node=\
 "11\">Orleans:</strong>&nbsp\;The masters of Pop-Rock melody and harmony. 
 Now in its 53rd year and led by co-founder Lance Hoppen\, Orleans brings t
 heir signature class and integrity to the stage with classics like&nbsp\;<
 strong data-index-in-node=\"192\" data-path-to-node=\"11\">&quot\;Still Th
 e One\,&quot\;</strong>&nbsp\;<strong data-index-in-node=\"209\" data-path
 -to-node=\"11\">&quot\;Dance with Me\,&quot\;</strong>&nbsp\;and&nbsp\;<st
 rong data-index-in-node=\"230\" data-path-to-node=\"11\">&quot\;Love Takes
  Time.</strong></p>\n\n<p data-path-to-node=\"14\">Don&#39\;t miss this ra
 re opportunity to see four legendary acts in a single night. Secure your s
 eats now for a journey through the soundtracks of the 70s and 80s.</p>\n\n
 <p data-path-to-node=\"14\"><a href=\"https://www.etix.com/ticket/p/770875
 57/pure-prarie-leagueatlanta-rhythm-sectionorleansand-firefall-ocean-city-
 oc-performing-arts-center\" target=\"_blank\">PURCHASE TICKETS</a></p>
DTSTAMP:20260423T215316Z
END:VEVENT
END:VCALENDAR