BEGIN:VCALENDAR
VERSION:2.0
PRODID:boardwalk.exploreoc.com
X-WR-CALNAME:Happy Hour Beer & Seacrets Beachin Cocktail Drink Specials
BEGIN:VEVENT
UID:532026-04-022026-04-02
DTSTART:20260402T200000Z
SEQUENCE:0
TRANSP:OPAQUE
DTEND:20260402T200000Z
LOCATION:117 49th St\nOcean City MD 21842
X-APPLE-STRUCTURED-LOCATION;VALUE=URI;X-ADDRESS=117 49th St\nOcean City MD 
 21842;X-APPLE-RADIUS=49;X-TITLE=117 49th St:geo:38.374561,-75.071571
GEO:38.374561;-75.071571
SUMMARY:Happy Hour Beer & Seacrets Beachin Cocktail Drink Specials
CLASS:PUBLIC
DESCRIPTION:TODAY'S HAPPY HOUR BEER & SEACRETS BEACHIN' COCKTAILS SPECIALS\
 n\nDraft/Craft Beer ~ $6.00\nDomestics ~ $5.00\n$5.50 Imports ~ . $6.00\nN
 aturals ~  $3.00\nSeacrets Beachin’ Cocktails ~ $6.00 \n 
X-ALT-DESC;FMTTYPE=text/html:<div><strong>Today&#39\;s Happy Hour Beer &amp
 \; Seacrets Beachin&#39\; Cocktails Specials</strong><br />\n<br />\nDraft
 /Craft Beer ~ $6.00<br />\nDomestics ~ $5.00<br />\n$5.50 Imports ~ . $6.0
 0<br />\nNaturals ~&nbsp\; $3.00<br />\nSeacrets Beachin&rsquo\; Cocktails
  ~ $6.00</div>\n\n<div>&nbsp\;</div>
DTSTAMP:20260423T215534Z
END:VEVENT
BEGIN:VEVENT
UID:532026-04-032026-04-03
DTSTART:20260403T200000Z
SEQUENCE:0
TRANSP:OPAQUE
DTEND:20260403T200000Z
LOCATION:117 49th St\nOcean City MD 21842
X-APPLE-STRUCTURED-LOCATION;VALUE=URI;X-ADDRESS=117 49th St\nOcean City MD 
 21842;X-APPLE-RADIUS=49;X-TITLE=117 49th St:geo:38.374561,-75.071571
GEO:38.374561;-75.071571
SUMMARY:Happy Hour Beer & Seacrets Beachin Cocktail Drink Specials
CLASS:PUBLIC
DESCRIPTION:TODAY'S HAPPY HOUR BEER & SEACRETS BEACHIN' COCKTAILS SPECIALS\
 n\nDraft/Craft Beer ~ $6.00\nDomestics ~ $5.00\n$5.50 Imports ~ . $6.00\nN
 aturals ~  $3.00\nSeacrets Beachin’ Cocktails ~ $6.00 \n 
X-ALT-DESC;FMTTYPE=text/html:<div><strong>Today&#39\;s Happy Hour Beer &amp
 \; Seacrets Beachin&#39\; Cocktails Specials</strong><br />\n<br />\nDraft
 /Craft Beer ~ $6.00<br />\nDomestics ~ $5.00<br />\n$5.50 Imports ~ . $6.0
 0<br />\nNaturals ~&nbsp\; $3.00<br />\nSeacrets Beachin&rsquo\; Cocktails
  ~ $6.00</div>\n\n<div>&nbsp\;</div>
DTSTAMP:20260423T215534Z
END:VEVENT
BEGIN:VEVENT
UID:532026-04-042026-04-04
DTSTART:20260404T200000Z
SEQUENCE:0
TRANSP:OPAQUE
DTEND:20260404T200000Z
LOCATION:117 49th St\nOcean City MD 21842
X-APPLE-STRUCTURED-LOCATION;VALUE=URI;X-ADDRESS=117 49th St\nOcean City MD 
 21842;X-APPLE-RADIUS=49;X-TITLE=117 49th St:geo:38.374561,-75.071571
GEO:38.374561;-75.071571
SUMMARY:Happy Hour Beer & Seacrets Beachin Cocktail Drink Specials
CLASS:PUBLIC
DESCRIPTION:TODAY'S HAPPY HOUR BEER & SEACRETS BEACHIN' COCKTAILS SPECIALS\
 n\nDraft/Craft Beer ~ $6.00\nDomestics ~ $5.00\n$5.50 Imports ~ . $6.00\nN
 aturals ~  $3.00\nSeacrets Beachin’ Cocktails ~ $6.00 \n 
X-ALT-DESC;FMTTYPE=text/html:<div><strong>Today&#39\;s Happy Hour Beer &amp
 \; Seacrets Beachin&#39\; Cocktails Specials</strong><br />\n<br />\nDraft
 /Craft Beer ~ $6.00<br />\nDomestics ~ $5.00<br />\n$5.50 Imports ~ . $6.0
 0<br />\nNaturals ~&nbsp\; $3.00<br />\nSeacrets Beachin&rsquo\; Cocktails
  ~ $6.00</div>\n\n<div>&nbsp\;</div>
DTSTAMP:20260423T215534Z
END:VEVENT
BEGIN:VEVENT
UID:532026-04-052026-04-05
DTSTART:20260405T200000Z
SEQUENCE:0
TRANSP:OPAQUE
DTEND:20260405T200000Z
LOCATION:117 49th St\nOcean City MD 21842
X-APPLE-STRUCTURED-LOCATION;VALUE=URI;X-ADDRESS=117 49th St\nOcean City MD 
 21842;X-APPLE-RADIUS=49;X-TITLE=117 49th St:geo:38.374561,-75.071571
GEO:38.374561;-75.071571
SUMMARY:Happy Hour Beer & Seacrets Beachin Cocktail Drink Specials
CLASS:PUBLIC
DESCRIPTION:TODAY'S HAPPY HOUR BEER & SEACRETS BEACHIN' COCKTAILS SPECIALS\
 n\nDraft/Craft Beer ~ $6.00\nDomestics ~ $5.00\n$5.50 Imports ~ . $6.00\nN
 aturals ~  $3.00\nSeacrets Beachin’ Cocktails ~ $6.00 \n 
X-ALT-DESC;FMTTYPE=text/html:<div><strong>Today&#39\;s Happy Hour Beer &amp
 \; Seacrets Beachin&#39\; Cocktails Specials</strong><br />\n<br />\nDraft
 /Craft Beer ~ $6.00<br />\nDomestics ~ $5.00<br />\n$5.50 Imports ~ . $6.0
 0<br />\nNaturals ~&nbsp\; $3.00<br />\nSeacrets Beachin&rsquo\; Cocktails
  ~ $6.00</div>\n\n<div>&nbsp\;</div>
DTSTAMP:20260423T215534Z
END:VEVENT
BEGIN:VEVENT
UID:532026-04-092026-04-09
DTSTART:20260409T200000Z
SEQUENCE:0
TRANSP:OPAQUE
DTEND:20260409T200000Z
LOCATION:117 49th St\nOcean City MD 21842
X-APPLE-STRUCTURED-LOCATION;VALUE=URI;X-ADDRESS=117 49th St\nOcean City MD 
 21842;X-APPLE-RADIUS=49;X-TITLE=117 49th St:geo:38.374561,-75.071571
GEO:38.374561;-75.071571
SUMMARY:Happy Hour Beer & Seacrets Beachin Cocktail Drink Specials
CLASS:PUBLIC
DESCRIPTION:TODAY'S HAPPY HOUR BEER & SEACRETS BEACHIN' COCKTAILS SPECIALS\
 n\nDraft/Craft Beer ~ $6.00\nDomestics ~ $5.00\n$5.50 Imports ~ . $6.00\nN
 aturals ~  $3.00\nSeacrets Beachin’ Cocktails ~ $6.00 \n 
X-ALT-DESC;FMTTYPE=text/html:<div><strong>Today&#39\;s Happy Hour Beer &amp
 \; Seacrets Beachin&#39\; Cocktails Specials</strong><br />\n<br />\nDraft
 /Craft Beer ~ $6.00<br />\nDomestics ~ $5.00<br />\n$5.50 Imports ~ . $6.0
 0<br />\nNaturals ~&nbsp\; $3.00<br />\nSeacrets Beachin&rsquo\; Cocktails
  ~ $6.00</div>\n\n<div>&nbsp\;</div>
DTSTAMP:20260423T215534Z
END:VEVENT
BEGIN:VEVENT
UID:532026-04-102026-04-10
DTSTART:20260410T200000Z
SEQUENCE:0
TRANSP:OPAQUE
DTEND:20260410T200000Z
LOCATION:117 49th St\nOcean City MD 21842
X-APPLE-STRUCTURED-LOCATION;VALUE=URI;X-ADDRESS=117 49th St\nOcean City MD 
 21842;X-APPLE-RADIUS=49;X-TITLE=117 49th St:geo:38.374561,-75.071571
GEO:38.374561;-75.071571
SUMMARY:Happy Hour Beer & Seacrets Beachin Cocktail Drink Specials
CLASS:PUBLIC
DESCRIPTION:TODAY'S HAPPY HOUR BEER & SEACRETS BEACHIN' COCKTAILS SPECIALS\
 n\nDraft/Craft Beer ~ $6.00\nDomestics ~ $5.00\n$5.50 Imports ~ . $6.00\nN
 aturals ~  $3.00\nSeacrets Beachin’ Cocktails ~ $6.00 \n 
X-ALT-DESC;FMTTYPE=text/html:<div><strong>Today&#39\;s Happy Hour Beer &amp
 \; Seacrets Beachin&#39\; Cocktails Specials</strong><br />\n<br />\nDraft
 /Craft Beer ~ $6.00<br />\nDomestics ~ $5.00<br />\n$5.50 Imports ~ . $6.0
 0<br />\nNaturals ~&nbsp\; $3.00<br />\nSeacrets Beachin&rsquo\; Cocktails
  ~ $6.00</div>\n\n<div>&nbsp\;</div>
DTSTAMP:20260423T215534Z
END:VEVENT
BEGIN:VEVENT
UID:532026-04-112026-04-11
DTSTART:20260411T200000Z
SEQUENCE:0
TRANSP:OPAQUE
DTEND:20260411T200000Z
LOCATION:117 49th St\nOcean City MD 21842
X-APPLE-STRUCTURED-LOCATION;VALUE=URI;X-ADDRESS=117 49th St\nOcean City MD 
 21842;X-APPLE-RADIUS=49;X-TITLE=117 49th St:geo:38.374561,-75.071571
GEO:38.374561;-75.071571
SUMMARY:Happy Hour Beer & Seacrets Beachin Cocktail Drink Specials
CLASS:PUBLIC
DESCRIPTION:TODAY'S HAPPY HOUR BEER & SEACRETS BEACHIN' COCKTAILS SPECIALS\
 n\nDraft/Craft Beer ~ $6.00\nDomestics ~ $5.00\n$5.50 Imports ~ . $6.00\nN
 aturals ~  $3.00\nSeacrets Beachin’ Cocktails ~ $6.00 \n 
X-ALT-DESC;FMTTYPE=text/html:<div><strong>Today&#39\;s Happy Hour Beer &amp
 \; Seacrets Beachin&#39\; Cocktails Specials</strong><br />\n<br />\nDraft
 /Craft Beer ~ $6.00<br />\nDomestics ~ $5.00<br />\n$5.50 Imports ~ . $6.0
 0<br />\nNaturals ~&nbsp\; $3.00<br />\nSeacrets Beachin&rsquo\; Cocktails
  ~ $6.00</div>\n\n<div>&nbsp\;</div>
DTSTAMP:20260423T215534Z
END:VEVENT
BEGIN:VEVENT
UID:532026-04-122026-04-12
DTSTART:20260412T200000Z
SEQUENCE:0
TRANSP:OPAQUE
DTEND:20260412T200000Z
LOCATION:117 49th St\nOcean City MD 21842
X-APPLE-STRUCTURED-LOCATION;VALUE=URI;X-ADDRESS=117 49th St\nOcean City MD 
 21842;X-APPLE-RADIUS=49;X-TITLE=117 49th St:geo:38.374561,-75.071571
GEO:38.374561;-75.071571
SUMMARY:Happy Hour Beer & Seacrets Beachin Cocktail Drink Specials
CLASS:PUBLIC
DESCRIPTION:TODAY'S HAPPY HOUR BEER & SEACRETS BEACHIN' COCKTAILS SPECIALS\
 n\nDraft/Craft Beer ~ $6.00\nDomestics ~ $5.00\n$5.50 Imports ~ . $6.00\nN
 aturals ~  $3.00\nSeacrets Beachin’ Cocktails ~ $6.00 \n 
X-ALT-DESC;FMTTYPE=text/html:<div><strong>Today&#39\;s Happy Hour Beer &amp
 \; Seacrets Beachin&#39\; Cocktails Specials</strong><br />\n<br />\nDraft
 /Craft Beer ~ $6.00<br />\nDomestics ~ $5.00<br />\n$5.50 Imports ~ . $6.0
 0<br />\nNaturals ~&nbsp\; $3.00<br />\nSeacrets Beachin&rsquo\; Cocktails
  ~ $6.00</div>\n\n<div>&nbsp\;</div>
DTSTAMP:20260423T215534Z
END:VEVENT
BEGIN:VEVENT
UID:532026-04-162026-04-16
DTSTART:20260416T200000Z
SEQUENCE:0
TRANSP:OPAQUE
DTEND:20260416T200000Z
LOCATION:117 49th St\nOcean City MD 21842
X-APPLE-STRUCTURED-LOCATION;VALUE=URI;X-ADDRESS=117 49th St\nOcean City MD 
 21842;X-APPLE-RADIUS=49;X-TITLE=117 49th St:geo:38.374561,-75.071571
GEO:38.374561;-75.071571
SUMMARY:Happy Hour Beer & Seacrets Beachin Cocktail Drink Specials
CLASS:PUBLIC
DESCRIPTION:TODAY'S HAPPY HOUR BEER & SEACRETS BEACHIN' COCKTAILS SPECIALS\
 n\nDraft/Craft Beer ~ $6.00\nDomestics ~ $5.00\n$5.50 Imports ~ . $6.00\nN
 aturals ~  $3.00\nSeacrets Beachin’ Cocktails ~ $6.00 \n 
X-ALT-DESC;FMTTYPE=text/html:<div><strong>Today&#39\;s Happy Hour Beer &amp
 \; Seacrets Beachin&#39\; Cocktails Specials</strong><br />\n<br />\nDraft
 /Craft Beer ~ $6.00<br />\nDomestics ~ $5.00<br />\n$5.50 Imports ~ . $6.0
 0<br />\nNaturals ~&nbsp\; $3.00<br />\nSeacrets Beachin&rsquo\; Cocktails
  ~ $6.00</div>\n\n<div>&nbsp\;</div>
DTSTAMP:20260423T215534Z
END:VEVENT
BEGIN:VEVENT
UID:532026-04-172026-04-17
DTSTART:20260417T200000Z
SEQUENCE:0
TRANSP:OPAQUE
DTEND:20260417T200000Z
LOCATION:117 49th St\nOcean City MD 21842
X-APPLE-STRUCTURED-LOCATION;VALUE=URI;X-ADDRESS=117 49th St\nOcean City MD 
 21842;X-APPLE-RADIUS=49;X-TITLE=117 49th St:geo:38.374561,-75.071571
GEO:38.374561;-75.071571
SUMMARY:Happy Hour Beer & Seacrets Beachin Cocktail Drink Specials
CLASS:PUBLIC
DESCRIPTION:TODAY'S HAPPY HOUR BEER & SEACRETS BEACHIN' COCKTAILS SPECIALS\
 n\nDraft/Craft Beer ~ $6.00\nDomestics ~ $5.00\n$5.50 Imports ~ . $6.00\nN
 aturals ~  $3.00\nSeacrets Beachin’ Cocktails ~ $6.00 \n 
X-ALT-DESC;FMTTYPE=text/html:<div><strong>Today&#39\;s Happy Hour Beer &amp
 \; Seacrets Beachin&#39\; Cocktails Specials</strong><br />\n<br />\nDraft
 /Craft Beer ~ $6.00<br />\nDomestics ~ $5.00<br />\n$5.50 Imports ~ . $6.0
 0<br />\nNaturals ~&nbsp\; $3.00<br />\nSeacrets Beachin&rsquo\; Cocktails
  ~ $6.00</div>\n\n<div>&nbsp\;</div>
DTSTAMP:20260423T215534Z
END:VEVENT
BEGIN:VEVENT
UID:532026-04-182026-04-18
DTSTART:20260418T200000Z
SEQUENCE:0
TRANSP:OPAQUE
DTEND:20260418T200000Z
LOCATION:117 49th St\nOcean City MD 21842
X-APPLE-STRUCTURED-LOCATION;VALUE=URI;X-ADDRESS=117 49th St\nOcean City MD 
 21842;X-APPLE-RADIUS=49;X-TITLE=117 49th St:geo:38.374561,-75.071571
GEO:38.374561;-75.071571
SUMMARY:Happy Hour Beer & Seacrets Beachin Cocktail Drink Specials
CLASS:PUBLIC
DESCRIPTION:TODAY'S HAPPY HOUR BEER & SEACRETS BEACHIN' COCKTAILS SPECIALS\
 n\nDraft/Craft Beer ~ $6.00\nDomestics ~ $5.00\n$5.50 Imports ~ . $6.00\nN
 aturals ~  $3.00\nSeacrets Beachin’ Cocktails ~ $6.00 \n 
X-ALT-DESC;FMTTYPE=text/html:<div><strong>Today&#39\;s Happy Hour Beer &amp
 \; Seacrets Beachin&#39\; Cocktails Specials</strong><br />\n<br />\nDraft
 /Craft Beer ~ $6.00<br />\nDomestics ~ $5.00<br />\n$5.50 Imports ~ . $6.0
 0<br />\nNaturals ~&nbsp\; $3.00<br />\nSeacrets Beachin&rsquo\; Cocktails
  ~ $6.00</div>\n\n<div>&nbsp\;</div>
DTSTAMP:20260423T215534Z
END:VEVENT
BEGIN:VEVENT
UID:532026-04-192026-04-19
DTSTART:20260419T200000Z
SEQUENCE:0
TRANSP:OPAQUE
DTEND:20260419T200000Z
LOCATION:117 49th St\nOcean City MD 21842
X-APPLE-STRUCTURED-LOCATION;VALUE=URI;X-ADDRESS=117 49th St\nOcean City MD 
 21842;X-APPLE-RADIUS=49;X-TITLE=117 49th St:geo:38.374561,-75.071571
GEO:38.374561;-75.071571
SUMMARY:Happy Hour Beer & Seacrets Beachin Cocktail Drink Specials
CLASS:PUBLIC
DESCRIPTION:TODAY'S HAPPY HOUR BEER & SEACRETS BEACHIN' COCKTAILS SPECIALS\
 n\nDraft/Craft Beer ~ $6.00\nDomestics ~ $5.00\n$5.50 Imports ~ . $6.00\nN
 aturals ~  $3.00\nSeacrets Beachin’ Cocktails ~ $6.00 \n 
X-ALT-DESC;FMTTYPE=text/html:<div><strong>Today&#39\;s Happy Hour Beer &amp
 \; Seacrets Beachin&#39\; Cocktails Specials</strong><br />\n<br />\nDraft
 /Craft Beer ~ $6.00<br />\nDomestics ~ $5.00<br />\n$5.50 Imports ~ . $6.0
 0<br />\nNaturals ~&nbsp\; $3.00<br />\nSeacrets Beachin&rsquo\; Cocktails
  ~ $6.00</div>\n\n<div>&nbsp\;</div>
DTSTAMP:20260423T215534Z
END:VEVENT
BEGIN:VEVENT
UID:532026-04-232026-04-23
DTSTART:20260423T200000Z
SEQUENCE:0
TRANSP:OPAQUE
DTEND:20260423T200000Z
LOCATION:117 49th St\nOcean City MD 21842
X-APPLE-STRUCTURED-LOCATION;VALUE=URI;X-ADDRESS=117 49th St\nOcean City MD 
 21842;X-APPLE-RADIUS=49;X-TITLE=117 49th St:geo:38.374561,-75.071571
GEO:38.374561;-75.071571
SUMMARY:Happy Hour Beer & Seacrets Beachin Cocktail Drink Specials
CLASS:PUBLIC
DESCRIPTION:TODAY'S HAPPY HOUR BEER & SEACRETS BEACHIN' COCKTAILS SPECIALS\
 n\nDraft/Craft Beer ~ $6.00\nDomestics ~ $5.00\n$5.50 Imports ~ . $6.00\nN
 aturals ~  $3.00\nSeacrets Beachin’ Cocktails ~ $6.00 \n 
X-ALT-DESC;FMTTYPE=text/html:<div><strong>Today&#39\;s Happy Hour Beer &amp
 \; Seacrets Beachin&#39\; Cocktails Specials</strong><br />\n<br />\nDraft
 /Craft Beer ~ $6.00<br />\nDomestics ~ $5.00<br />\n$5.50 Imports ~ . $6.0
 0<br />\nNaturals ~&nbsp\; $3.00<br />\nSeacrets Beachin&rsquo\; Cocktails
  ~ $6.00</div>\n\n<div>&nbsp\;</div>
DTSTAMP:20260423T215534Z
END:VEVENT
BEGIN:VEVENT
UID:532026-04-242026-04-24
DTSTART:20260424T200000Z
SEQUENCE:0
TRANSP:OPAQUE
DTEND:20260424T200000Z
LOCATION:117 49th St\nOcean City MD 21842
X-APPLE-STRUCTURED-LOCATION;VALUE=URI;X-ADDRESS=117 49th St\nOcean City MD 
 21842;X-APPLE-RADIUS=49;X-TITLE=117 49th St:geo:38.374561,-75.071571
GEO:38.374561;-75.071571
SUMMARY:Happy Hour Beer & Seacrets Beachin Cocktail Drink Specials
CLASS:PUBLIC
DESCRIPTION:TODAY'S HAPPY HOUR BEER & SEACRETS BEACHIN' COCKTAILS SPECIALS\
 n\nDraft/Craft Beer ~ $6.00\nDomestics ~ $5.00\n$5.50 Imports ~ . $6.00\nN
 aturals ~  $3.00\nSeacrets Beachin’ Cocktails ~ $6.00 \n 
X-ALT-DESC;FMTTYPE=text/html:<div><strong>Today&#39\;s Happy Hour Beer &amp
 \; Seacrets Beachin&#39\; Cocktails Specials</strong><br />\n<br />\nDraft
 /Craft Beer ~ $6.00<br />\nDomestics ~ $5.00<br />\n$5.50 Imports ~ . $6.0
 0<br />\nNaturals ~&nbsp\; $3.00<br />\nSeacrets Beachin&rsquo\; Cocktails
  ~ $6.00</div>\n\n<div>&nbsp\;</div>
DTSTAMP:20260423T215534Z
END:VEVENT
BEGIN:VEVENT
UID:532026-04-252026-04-25
DTSTART:20260425T200000Z
SEQUENCE:0
TRANSP:OPAQUE
DTEND:20260425T200000Z
LOCATION:117 49th St\nOcean City MD 21842
X-APPLE-STRUCTURED-LOCATION;VALUE=URI;X-ADDRESS=117 49th St\nOcean City MD 
 21842;X-APPLE-RADIUS=49;X-TITLE=117 49th St:geo:38.374561,-75.071571
GEO:38.374561;-75.071571
SUMMARY:Happy Hour Beer & Seacrets Beachin Cocktail Drink Specials
CLASS:PUBLIC
DESCRIPTION:TODAY'S HAPPY HOUR BEER & SEACRETS BEACHIN' COCKTAILS SPECIALS\
 n\nDraft/Craft Beer ~ $6.00\nDomestics ~ $5.00\n$5.50 Imports ~ . $6.00\nN
 aturals ~  $3.00\nSeacrets Beachin’ Cocktails ~ $6.00 \n 
X-ALT-DESC;FMTTYPE=text/html:<div><strong>Today&#39\;s Happy Hour Beer &amp
 \; Seacrets Beachin&#39\; Cocktails Specials</strong><br />\n<br />\nDraft
 /Craft Beer ~ $6.00<br />\nDomestics ~ $5.00<br />\n$5.50 Imports ~ . $6.0
 0<br />\nNaturals ~&nbsp\; $3.00<br />\nSeacrets Beachin&rsquo\; Cocktails
  ~ $6.00</div>\n\n<div>&nbsp\;</div>
DTSTAMP:20260423T215534Z
END:VEVENT
BEGIN:VEVENT
UID:532026-04-262026-04-26
DTSTART:20260426T200000Z
SEQUENCE:0
TRANSP:OPAQUE
DTEND:20260426T200000Z
LOCATION:117 49th St\nOcean City MD 21842
X-APPLE-STRUCTURED-LOCATION;VALUE=URI;X-ADDRESS=117 49th St\nOcean City MD 
 21842;X-APPLE-RADIUS=49;X-TITLE=117 49th St:geo:38.374561,-75.071571
GEO:38.374561;-75.071571
SUMMARY:Happy Hour Beer & Seacrets Beachin Cocktail Drink Specials
CLASS:PUBLIC
DESCRIPTION:TODAY'S HAPPY HOUR BEER & SEACRETS BEACHIN' COCKTAILS SPECIALS\
 n\nDraft/Craft Beer ~ $6.00\nDomestics ~ $5.00\n$5.50 Imports ~ . $6.00\nN
 aturals ~  $3.00\nSeacrets Beachin’ Cocktails ~ $6.00 \n 
X-ALT-DESC;FMTTYPE=text/html:<div><strong>Today&#39\;s Happy Hour Beer &amp
 \; Seacrets Beachin&#39\; Cocktails Specials</strong><br />\n<br />\nDraft
 /Craft Beer ~ $6.00<br />\nDomestics ~ $5.00<br />\n$5.50 Imports ~ . $6.0
 0<br />\nNaturals ~&nbsp\; $3.00<br />\nSeacrets Beachin&rsquo\; Cocktails
  ~ $6.00</div>\n\n<div>&nbsp\;</div>
DTSTAMP:20260423T215534Z
END:VEVENT
BEGIN:VEVENT
UID:532026-04-302026-04-30
DTSTART:20260430T200000Z
SEQUENCE:0
TRANSP:OPAQUE
DTEND:20260430T200000Z
LOCATION:117 49th St\nOcean City MD 21842
X-APPLE-STRUCTURED-LOCATION;VALUE=URI;X-ADDRESS=117 49th St\nOcean City MD 
 21842;X-APPLE-RADIUS=49;X-TITLE=117 49th St:geo:38.374561,-75.071571
GEO:38.374561;-75.071571
SUMMARY:Happy Hour Beer & Seacrets Beachin Cocktail Drink Specials
CLASS:PUBLIC
DESCRIPTION:TODAY'S HAPPY HOUR BEER & SEACRETS BEACHIN' COCKTAILS SPECIALS\
 n\nDraft/Craft Beer ~ $6.00\nDomestics ~ $5.00\n$5.50 Imports ~ . $6.00\nN
 aturals ~  $3.00\nSeacrets Beachin’ Cocktails ~ $6.00 \n 
X-ALT-DESC;FMTTYPE=text/html:<div><strong>Today&#39\;s Happy Hour Beer &amp
 \; Seacrets Beachin&#39\; Cocktails Specials</strong><br />\n<br />\nDraft
 /Craft Beer ~ $6.00<br />\nDomestics ~ $5.00<br />\n$5.50 Imports ~ . $6.0
 0<br />\nNaturals ~&nbsp\; $3.00<br />\nSeacrets Beachin&rsquo\; Cocktails
  ~ $6.00</div>\n\n<div>&nbsp\;</div>
DTSTAMP:20260423T215534Z
END:VEVENT
END:VCALENDAR